BEGIN:VCALENDAR
VERSION:2.0
PRODID:-//Wackershofen//Veranstaltungen//DE
BEGIN:VTIMEZONE
TZID:Europe/Berlin
X-LIC-LOCATION:Europe/Berlin
BEGIN:DAYLIGHT
TZOFFSETFROM:+0100
TZOFFSETTO:+0200
TZNAME:CEST
DTSTART:19700329T020000
RRULE:FREQ=YEARLY;INTERVAL=1;BYDAY=-1SU;BYMONTH=3
END:DAYLIGHT
BEGIN:STANDARD
TZOFFSETFROM:+0200
TZOFFSETTO:+0100
TZNAME:CET
DTSTART:19701025T030000
RRULE:FREQ=YEARLY;INTERVAL=1;BYDAY=-1SU;BYMONTH=10
END:STANDARD
END:VTIMEZONE
BEGIN:VEVENT
SUMMARY:Backtag im Backhaus aus Beilstein
DTSTAMP:20260302T161843Z
UID:www_wackershofen_de_veranstaltungen_10144_processwire
DTSTART;TZID=Europe/Berlin:20260509T110000
DTEND;TZID=Europe/Berlin:20260509T150000
RRULE:FREQ=DAILY;INTERVAL=1;UNTIL=20260510T235959Z
DESCRIPTION:Das Gemeindebackhaus aus Beilstein (Gebäude 23) im Weinbauerndorf ist heute in Betrieb. Es wird ordentlich eingeheizt und frisch gebacken. Das Museumsbrot ist ab 12 Uhr im Lädle (Gebäude 4a) zu erwerben. / Es findet der Käse- und Genussmarkt statt.
URL:https://www.wackershofen.de/veranstaltungen/backtag
END:VEVENT
BEGIN:VEVENT
SUMMARY:Backtag im Backhaus aus Beilstein
DTSTAMP:20260302T162051Z
UID:www_wackershofen_de_veranstaltungen_10145_processwire
DTSTART;TZID=Europe/Berlin:20260621T110000
DTEND;TZID=Europe/Berlin:20260621T150000
DESCRIPTION:Das Gemeindebackhaus aus Beilstein (Gebäude 23) im Weinbauerndorf ist heute in Betrieb. Es wird ordentlich eingeheizt und frisch gebacken. Das Museumsbrot ist ab 12 Uhr im Lädle (Gebäude 4a) zu erwerben. / Heute ist Tag des alten Handwerks.
URL:https://www.wackershofen.de/veranstaltungen/backtag
END:VEVENT
BEGIN:VEVENT
SUMMARY:Backtag im Backhaus aus Beilstein
DTSTAMP:20260302T162208Z
UID:www_wackershofen_de_veranstaltungen_10146_processwire
DTSTART;TZID=Europe/Berlin:20260719T110000
DTEND;TZID=Europe/Berlin:20260719T150000
DESCRIPTION:Das Gemeindebackhaus aus Beilstein (Gebäude 23) im Weinbauerndorf ist heute in Betrieb. Es wird ordentlich eingeheizt und frisch gebacken. Das Museumsbrot ist ab 12 Uhr im Lädle (Gebäude 4a) zu erwerben. / Heute findet die Veranstaltung Gut Holz! Kegeln früher statt und es ist Tag des alten Handwerks.
URL:https://www.wackershofen.de/veranstaltungen/backtag
END:VEVENT
BEGIN:VEVENT
SUMMARY:Backtag im Backhaus aus Beilstein
DTSTAMP:20260302T162433Z
UID:www_wackershofen_de_veranstaltungen_10147_processwire
DTSTART;TZID=Europe/Berlin:20260926T110000
DTEND;TZID=Europe/Berlin:20260926T150000
RRULE:FREQ=DAILY;INTERVAL=1;UNTIL=20260927T235959Z
DESCRIPTION:Das Gemeindebackhaus aus Beilstein (Gebäude 23) im Weinbauerndorf ist heute in Betrieb. Es wird ordentlich eingeheizt und frisch gebacken. Das Museumsbrot ist ab 12 Uhr im Lädle (Gebäude 4a) zu erwerben. / Heute ist das Backofenfest.
URL:https://www.wackershofen.de/veranstaltungen/backtag
END:VEVENT
BEGIN:VEVENT
SUMMARY:Backtag im Backhaus aus Beilstein
DTSTAMP:20260302T162553Z
UID:www_wackershofen_de_veranstaltungen_10148_processwire
DTSTART;TZID=Europe/Berlin:20261018T110000
DTEND;TZID=Europe/Berlin:20261018T150000
DESCRIPTION:Das Gemeindebackhaus aus Beilstein (Gebäude 23) im Weinbauerndorf ist heute in Betrieb. Es wird ordentlich eingeheizt und frisch gebacken. Das Museumsbrot ist ab 12 Uhr im Lädle (Gebäude 4a) zu erwerben. / Heute sind der Apfeltag und der Tag des alten Handwerks.
URL:https://www.wackershofen.de/veranstaltungen/backtag
END:VEVENT
BEGIN:VEVENT
SUMMARY:Backtag im Backhaus aus Beilstein
DTSTAMP:20260302T162726Z
UID:www_wackershofen_de_veranstaltungen_10149_processwire
DTSTART;TZID=Europe/Berlin:20261107T110000
DTEND;TZID=Europe/Berlin:20261107T150000
DESCRIPTION:Das Gemeindebackhaus aus Beilstein (Gebäude 23) im Weinbauerndorf ist heute in Betrieb. Es wird ordentlich eingeheizt und frisch gebacken. Das Museumsbrot ist ab 12 Uhr im Lädle (Gebäude 4a) zu erwerben. / Heute ist Schlachtfest.
URL:https://www.wackershofen.de/veranstaltungen/backtag
END:VEVENT
END:VCALENDAR