BEGIN:VCALENDAR
VERSION:2.0
PRODID:-//Wackershofen//Veranstaltungen//DE
BEGIN:VTIMEZONE
TZID:Europe/Berlin
X-LIC-LOCATION:Europe/Berlin
BEGIN:DAYLIGHT
TZOFFSETFROM:+0100
TZOFFSETTO:+0200
TZNAME:CEST
DTSTART:19700329T020000
RRULE:FREQ=YEARLY;INTERVAL=1;BYDAY=-1SU;BYMONTH=3
END:DAYLIGHT
BEGIN:STANDARD
TZOFFSETFROM:+0200
TZOFFSETTO:+0100
TZNAME:CET
DTSTART:19701025T030000
RRULE:FREQ=YEARLY;INTERVAL=1;BYDAY=-1SU;BYMONTH=10
END:STANDARD
END:VTIMEZONE
BEGIN:VEVENT
SUMMARY:Unterwegs mit der Becherlupe (ab 6 Jahren)
DTSTAMP:20260226T164551Z
UID:www_wackershofen_de_veranstaltungen_10040_processwire
DTSTART;TZID=Europe/Berlin:20260813T140000
DTEND;TZID=Europe/Berlin:20260813T160000
DESCRIPTION:Mit der Becherlupe geht es auf Entdeckungsreise durch die Wiese des Freilandmuseums. Kleine Krabbeltiere und Insekten wie Käfer, Heuschrecken oder Schmetterlinge lassen sich aus nächster Nähe beobachten, vorsichtig bestimmen und werden anschließend wieder freilassen. Die Wiese wird dabei als vielfältiger Lebensraum erfahrbar. Naturerleben, Forscherdrang und ein achtsamer Umgang mit kleinen Lebewesen stehen im Mittelpunkt. 
URL:https://www.wackershofen.de/veranstaltungen/becherlupe
END:VEVENT
BEGIN:VEVENT
SUMMARY:Unterwegs mit der Becherlupe (ab 6 Jahren)
DTSTAMP:20260226T164730Z
UID:www_wackershofen_de_veranstaltungen_10041_processwire
DTSTART;TZID=Europe/Berlin:20260820T140000
DTEND;TZID=Europe/Berlin:20260820T160000
DESCRIPTION:Mit der Becherlupe geht es auf Entdeckungsreise durch die Wiese des Freilandmuseums. Kleine Krabbeltiere und Insekten wie Käfer, Heuschrecken oder Schmetterlinge lassen sich aus nächster Nähe beobachten, vorsichtig bestimmen und werden anschließend wieder freilassen. Die Wiese wird dabei als vielfältiger Lebensraum erfahrbar. Naturerleben, Forscherdrang und ein achtsamer Umgang mit kleinen Lebewesen stehen im Mittelpunkt. 
URL:https://www.wackershofen.de/veranstaltungen/becherlupe
END:VEVENT
BEGIN:VEVENT
SUMMARY:Unterwegs mit der Becherlupe (ab 6 Jahren)
DTSTAMP:20260226T164746Z
UID:www_wackershofen_de_veranstaltungen_10042_processwire
DTSTART;TZID=Europe/Berlin:20260831T140000
DTEND;TZID=Europe/Berlin;VALUE=DATE:20260831
DESCRIPTION:Mit der Becherlupe geht es auf Entdeckungsreise durch die Wiese des Freilandmuseums. Kleine Krabbeltiere und Insekten wie Käfer, Heuschrecken oder Schmetterlinge lassen sich aus nächster Nähe beobachten, vorsichtig bestimmen und werden anschließend wieder freilassen. Die Wiese wird dabei als vielfältiger Lebensraum erfahrbar. Naturerleben, Forscherdrang und ein achtsamer Umgang mit kleinen Lebewesen stehen im Mittelpunkt. 
URL:https://www.wackershofen.de/veranstaltungen/becherlupe
END:VEVENT
END:VCALENDAR