BEGIN:VCALENDAR
VERSION:2.0
PRODID:-//Wackershofen//Veranstaltungen//DE
BEGIN:VTIMEZONE
TZID:Europe/Berlin
X-LIC-LOCATION:Europe/Berlin
BEGIN:DAYLIGHT
TZOFFSETFROM:+0100
TZOFFSETTO:+0200
TZNAME:CEST
DTSTART:19700329T020000
RRULE:FREQ=YEARLY;INTERVAL=1;BYDAY=-1SU;BYMONTH=3
END:DAYLIGHT
BEGIN:STANDARD
TZOFFSETFROM:+0200
TZOFFSETTO:+0100
TZNAME:CET
DTSTART:19701025T030000
RRULE:FREQ=YEARLY;INTERVAL=1;BYDAY=-1SU;BYMONTH=10
END:STANDARD
END:VTIMEZONE
BEGIN:VEVENT
SUMMARY:Beginn der Sommerkellersaison
DTSTAMP:20251104T114655Z
UID:www_wackershofen_de_veranstaltungen_8014_processwire
DTSTART;TZID=Europe/Berlin:20260501T110000
DTEND;TZID=Europe/Berlin:20260501T235900
DESCRIPTION:Bieranstich im Sommerkeller (Gebäude 53)! Im oberen Bereich des Museumsgeländes, am Rand der Waldberge, lädt der Sommerkeller zum Rasten in herrlicher Natur und mit einmaliger Aussicht ein. Es gibt Bier vom Fass, Erfrischungsgetränke und ein Imbiss-Angebot.Der Sommerkeller öffnet die restliche Saison an Wochenenden seine Pforten und bietet urige Speisen.
URL:https://www.wackershofen.de/veranstaltungen/beginn-sommerkellersaison
END:VEVENT
END:VCALENDAR