BEGIN:VCALENDAR
VERSION:2.0
PRODID:-//Wackershofen//Veranstaltungen//DE
BEGIN:VTIMEZONE
TZID:Europe/Berlin
X-LIC-LOCATION:Europe/Berlin
BEGIN:DAYLIGHT
TZOFFSETFROM:+0100
TZOFFSETTO:+0200
TZNAME:CEST
DTSTART:19700329T020000
RRULE:FREQ=YEARLY;INTERVAL=1;BYDAY=-1SU;BYMONTH=3
END:DAYLIGHT
BEGIN:STANDARD
TZOFFSETFROM:+0200
TZOFFSETTO:+0100
TZNAME:CET
DTSTART:19701025T030000
RRULE:FREQ=YEARLY;INTERVAL=1;BYDAY=-1SU;BYMONTH=10
END:STANDARD
END:VTIMEZONE
BEGIN:VEVENT
SUMMARY:Cyanotypie – Pflanzendruck mit der Sonne (ab 6 Jahren)
DTSTAMP:20260226T170926Z
UID:www_wackershofen_de_veranstaltungen_10057_processwire
DTSTART;TZID=Europe/Berlin:20260824T140000
DTEND;TZID=Europe/Berlin:20260824T160000
DESCRIPTION:Die Cyanotopie ist eine der ältestens Fototechniken. Mit Hilfe der Sonne erstellen die Kinder in diesem Programm auf scheinbar zauberhafte Weise eigene Pflanzenbilder.Hinweis: Bei Regenwetter kann das Programm nicht stattfinden
URL:https://www.wackershofen.de/veranstaltungen/cyanotypie-pflanzendruck-mit-der-sonne-ab-6-jahren
END:VEVENT
BEGIN:VEVENT
SUMMARY:Cyanotypie – Pflanzendruck mit der Sonne (ab 6 Jahren)
DTSTAMP:20260226T170941Z
UID:www_wackershofen_de_veranstaltungen_10058_processwire
DTSTART;TZID=Europe/Berlin:20260903T140000
DTEND;TZID=Europe/Berlin:20260903T160000
DESCRIPTION:Die Cyanotopie ist eine der ältestens Fototechniken. Mit Hilfe der Sonne erstellen die Kinder in diesem Programm auf scheinbar zauberhafte Weise eigene Pflanzenbilder.Hinweis: Bei Regenwetter kann das Programm nicht stattfinden
URL:https://www.wackershofen.de/veranstaltungen/cyanotypie-pflanzendruck-mit-der-sonne-ab-6-jahren
END:VEVENT
END:VCALENDAR