BEGIN:VCALENDAR
VERSION:2.0
PRODID:-//Wackershofen//Veranstaltungen//DE
BEGIN:VTIMEZONE
TZID:Europe/Berlin
X-LIC-LOCATION:Europe/Berlin
BEGIN:DAYLIGHT
TZOFFSETFROM:+0100
TZOFFSETTO:+0200
TZNAME:CEST
DTSTART:19700329T020000
RRULE:FREQ=YEARLY;INTERVAL=1;BYDAY=-1SU;BYMONTH=3
END:DAYLIGHT
BEGIN:STANDARD
TZOFFSETFROM:+0200
TZOFFSETTO:+0100
TZNAME:CET
DTSTART:19701025T030000
RRULE:FREQ=YEARLY;INTERVAL=1;BYDAY=-1SU;BYMONTH=10
END:STANDARD
END:VTIMEZONE
BEGIN:VEVENT
SUMMARY:Hobby Horsing (ab 6 Jahren)
DTSTAMP:20260210T135656Z
UID:www_wackershofen_de_veranstaltungen_9678_processwire
DTSTART;TZID=Europe/Berlin:20260810T140000
DTEND;TZID=Europe/Berlin:20260810T160000
DESCRIPTION:In diesem Kurs erhalten die Kinder eine Einführung in das Thema Hobby Horsing und warum es die beste Vorbereitung fürs Reiten ist. Alles beginnt zunächst mit dem Aufbau eines Dressurvierecks. Danach schaut man gemeinsam auf die Gangarten von Warmblutpferden und ahmt diese nach. Je nach Ausbildungsstand werden Hufschlagfiguren (ähnlich wie beim Dressurreiten) ausprobiert und das Springen von kleinen Hindernissen geübt.
URL:https://www.wackershofen.de/veranstaltungen/hobby-horsing
END:VEVENT
BEGIN:VEVENT
SUMMARY:Hobby Horsing (ab 6 Jahren)
DTSTAMP:20260210T135812Z
UID:www_wackershofen_de_veranstaltungen_9679_processwire
DTSTART;TZID=Europe/Berlin:20260907T140000
DTEND;TZID=Europe/Berlin:20260907T160000
DESCRIPTION:In diesem Kurs erhalten die Kinder eine Einführung in das Thema Hobby Horsing und warum es die beste Vorbereitung fürs Reiten ist. Alles beginnt zunächst mit dem Aufbau eines Dressurvierecks. Danach schaut man gemeinsam auf die Gangarten von Warmblutpferden und ahmt diese nach. Je nach Ausbildungsstand werden Hufschlagfiguren (ähnlich wie beim Dressurreiten) ausprobiert und das Springen von kleinen Hindernissen geübt.
URL:https://www.wackershofen.de/veranstaltungen/hobby-horsing
END:VEVENT
END:VCALENDAR