BEGIN:VCALENDAR
VERSION:2.0
PRODID:-//Wackershofen//Veranstaltungen//DE
BEGIN:VTIMEZONE
TZID:Europe/Berlin
X-LIC-LOCATION:Europe/Berlin
BEGIN:DAYLIGHT
TZOFFSETFROM:+0100
TZOFFSETTO:+0200
TZNAME:CEST
DTSTART:19700329T020000
RRULE:FREQ=YEARLY;INTERVAL=1;BYDAY=-1SU;BYMONTH=3
END:DAYLIGHT
BEGIN:STANDARD
TZOFFSETFROM:+0200
TZOFFSETTO:+0100
TZNAME:CET
DTSTART:19701025T030000
RRULE:FREQ=YEARLY;INTERVAL=1;BYDAY=-1SU;BYMONTH=10
END:STANDARD
END:VTIMEZONE
BEGIN:VEVENT
SUMMARY:Kindertag
DTSTAMP:20251104T130207Z
UID:www_wackershofen_de_veranstaltungen_8053_processwire
DTSTART;TZID=Europe/Berlin:20260705T110000
DTEND;TZID=Europe/Berlin:20260705T180000
DESCRIPTION:Am Kindertag stehen die jungen Museumsgäste ganz im Mittelpunkt und dürfen sich auf eine Zeitreise in die Vergangenheit begeben, bei der sie Einblicke in die verschiedensten Bereiche der Kindheit in früheren Zeiten bekommen.Mitmachstationen laden zum Spielen, Entdecken und Staunen ein. Unter Anleitung können die Kinder ausprobieren und eigene Fertigkeiten entwickeln – vom Waschen mit der Rumpel, über das Brechen von Flachs bis hin zum Bauen von Vogelscheuchen. Auch alte Kinderspiele können ausprobiert werden. Wer schafft es, auf Stelzen zu laufen oder seinen Reifen zu treiben?Kommt vorbei, es gibt viel zu erleben!
URL:https://www.wackershofen.de/veranstaltungen/kindertag
END:VEVENT
END:VCALENDAR