BEGIN:VCALENDAR
VERSION:2.0
PRODID:-//Wackershofen//Veranstaltungen//DE
BEGIN:VTIMEZONE
TZID:Europe/Berlin
X-LIC-LOCATION:Europe/Berlin
BEGIN:DAYLIGHT
TZOFFSETFROM:+0100
TZOFFSETTO:+0200
TZNAME:CEST
DTSTART:19700329T020000
RRULE:FREQ=YEARLY;INTERVAL=1;BYDAY=-1SU;BYMONTH=3
END:DAYLIGHT
BEGIN:STANDARD
TZOFFSETFROM:+0200
TZOFFSETTO:+0100
TZNAME:CET
DTSTART:19701025T030000
RRULE:FREQ=YEARLY;INTERVAL=1;BYDAY=-1SU;BYMONTH=10
END:STANDARD
END:VTIMEZONE
BEGIN:VEVENT
SUMMARY:Offener Themenrundgang: Märchen im Wandel der Zeit
DTSTAMP:20260226T152741Z
UID:www_wackershofen_de_veranstaltungen_10023_processwire
DTSTART;TZID=Europe/Berlin:20261004T143000
DTEND;TZID=Europe/Berlin:20261004T153000
DESCRIPTION:Märchen prägen bis heute die deutsche Kulturgeschichte. Ursprünglich wurden sie für Erwachsene gedacht und griffen Themen wie Angst, Verlust, Hoffnung und Mut auf. Im Laufe der Zeit wurden sie immer wieder umgedeutet und für Kinder umgeschrieben. Passend zum Märchentag beleuchtet der Themenrundgang, wie Märchen entstanden, welche symbolischen Bedeutungen sie tragen und warum sie bis heute wichtig sind.Eine Anmeldung ist nicht notwendig.
URL:https://www.wackershofen.de/veranstaltungen/offener-themenrundgang-maerchen
END:VEVENT
END:VCALENDAR