BEGIN:VCALENDAR
VERSION:2.0
PRODID:-//Wackershofen//Veranstaltungen//DE
BEGIN:VTIMEZONE
TZID:Europe/Berlin
X-LIC-LOCATION:Europe/Berlin
BEGIN:DAYLIGHT
TZOFFSETFROM:+0100
TZOFFSETTO:+0200
TZNAME:CEST
DTSTART:19700329T020000
RRULE:FREQ=YEARLY;INTERVAL=1;BYDAY=-1SU;BYMONTH=3
END:DAYLIGHT
BEGIN:STANDARD
TZOFFSETFROM:+0200
TZOFFSETTO:+0100
TZNAME:CET
DTSTART:19701025T030000
RRULE:FREQ=YEARLY;INTERVAL=1;BYDAY=-1SU;BYMONTH=10
END:STANDARD
END:VTIMEZONE
BEGIN:VEVENT
SUMMARY:Offener Themenrundgang: Der Wald zwischen Nutzen und Mythos
DTSTAMP:20260226T151210Z
UID:www_wackershofen_de_veranstaltungen_10015_processwire
DTSTART;TZID=Europe/Berlin:20260712T143000
DTEND;TZID=Europe/Berlin:20260712T153000
DESCRIPTION:Der Wald hat die deutsche Geschichte und Kultur stark geprägt. Er ist zugleich Rohstoffquelle, Erholungsort und Symbol der Romantik. Passend zum Waldtag zeigt die Führung die historische Entwicklung des Waldes auf und verbindet sie mit aktuellen Fragen zum ökologischen Zustand der Wälder.Eine Anmeldung ist nicht notwendig.
URL:https://www.wackershofen.de/veranstaltungen/offener-themenrundgang-wald
END:VEVENT
END:VCALENDAR