BEGIN:VCALENDAR
VERSION:2.0
PRODID:-//Wackershofen//Veranstaltungen//DE
BEGIN:VTIMEZONE
TZID:Europe/Berlin
X-LIC-LOCATION:Europe/Berlin
BEGIN:DAYLIGHT
TZOFFSETFROM:+0100
TZOFFSETTO:+0200
TZNAME:CEST
DTSTART:19700329T020000
RRULE:FREQ=YEARLY;INTERVAL=1;BYDAY=-1SU;BYMONTH=3
END:DAYLIGHT
BEGIN:STANDARD
TZOFFSETFROM:+0200
TZOFFSETTO:+0100
TZNAME:CET
DTSTART:19701025T030000
RRULE:FREQ=YEARLY;INTERVAL=1;BYDAY=-1SU;BYMONTH=10
END:STANDARD
END:VTIMEZONE
BEGIN:VEVENT
SUMMARY:Offener Themenrundgang: Kindheit früher
DTSTAMP:20260223T095018Z
UID:www_wackershofen_de_veranstaltungen_9911_processwire
DTSTART;TZID=Europe/Berlin:20260604T143000
DTEND;TZID=Europe/Berlin:20260604T153000
DESCRIPTION:In diesem offenen Themenrundgang erhalten Sie Einblicke in die Kindheit auf dem Land. Wie haben die Kinder gelebt, was waren ihre Aufgaben und wie haben sie gespielt? Wie sah eine Schule aus und was wurde im Unterricht gelernt? Freuen Sie sich auf Einblicke in Häuser und Geschichten.Eine Anmeldung ist nicht notwendig.
URL:https://www.wackershofen.de/veranstaltungen/rundgang-kindheit
END:VEVENT
BEGIN:VEVENT
SUMMARY:Offener Themenrundgang: Kindheit früher
DTSTAMP:20260223T095049Z
UID:www_wackershofen_de_veranstaltungen_9912_processwire
DTSTART;TZID=Europe/Berlin:20260628T143000
DTEND;TZID=Europe/Berlin:20260628T153000
DESCRIPTION:In diesem offenen Themenrundgang erhalten Sie Einblicke in die Kindheit auf dem Land. Wie haben die Kinder gelebt, was waren ihre Aufgaben und wie haben sie gespielt? Wie sah eine Schule aus und was wurde im Unterricht gelernt? Freuen Sie sich auf Einblicke in Häuser und Geschichten.Eine Anmeldung ist nicht notwendig.
URL:https://www.wackershofen.de/veranstaltungen/rundgang-kindheit
END:VEVENT
BEGIN:VEVENT
SUMMARY:Offener Themenrundgang: Kindheit früher
DTSTAMP:20260223T095104Z
UID:www_wackershofen_de_veranstaltungen_9913_processwire
DTSTART;TZID=Europe/Berlin:20260705T143000
DTEND;TZID=Europe/Berlin:20260705T153000
DESCRIPTION:In diesem offenen Themenrundgang erhalten Sie Einblicke in die Kindheit auf dem Land. Wie haben die Kinder gelebt, was waren ihre Aufgaben und wie haben sie gespielt? Wie sah eine Schule aus und was wurde im Unterricht gelernt? Freuen Sie sich auf Einblicke in Häuser und Geschichten.Eine Anmeldung ist nicht notwendig.
URL:https://www.wackershofen.de/veranstaltungen/rundgang-kindheit
END:VEVENT
BEGIN:VEVENT
SUMMARY:Offener Themenrundgang: Kindheit früher
DTSTAMP:20260223T095210Z
UID:www_wackershofen_de_veranstaltungen_9915_processwire
DTSTART;TZID=Europe/Berlin:20260802T143000
DTEND;TZID=Europe/Berlin:20260802T153000
DESCRIPTION:In diesem offenen Themenrundgang erhalten Sie Einblicke in die Kindheit auf dem Land. Wie haben die Kinder gelebt, was waren ihre Aufgaben und wie haben sie gespielt? Wie sah eine Schule aus und was wurde im Unterricht gelernt? Freuen Sie sich auf Einblicke in Häuser und Geschichten.Eine Anmeldung ist nicht notwendig.
URL:https://www.wackershofen.de/veranstaltungen/rundgang-kindheit
END:VEVENT
BEGIN:VEVENT
SUMMARY:Offener Themenrundgang: Kindheit früher
DTSTAMP:20260223T095239Z
UID:www_wackershofen_de_veranstaltungen_9916_processwire
DTSTART;TZID=Europe/Berlin:20260806T143000
DTEND;TZID=Europe/Berlin:20260806T153000
DESCRIPTION:In diesem offenen Themenrundgang erhalten Sie Einblicke in die Kindheit auf dem Land. Wie haben die Kinder gelebt, was waren ihre Aufgaben und wie haben sie gespielt? Wie sah eine Schule aus und was wurde im Unterricht gelernt? Freuen Sie sich auf Einblicke in Häuser und Geschichten.Eine Anmeldung ist nicht notwendig.
URL:https://www.wackershofen.de/veranstaltungen/rundgang-kindheit
END:VEVENT
END:VCALENDAR