BEGIN:VCALENDAR
VERSION:2.0
PRODID:-//Wackershofen//Veranstaltungen//DE
BEGIN:VTIMEZONE
TZID:Europe/Berlin
X-LIC-LOCATION:Europe/Berlin
BEGIN:DAYLIGHT
TZOFFSETFROM:+0100
TZOFFSETTO:+0200
TZNAME:CEST
DTSTART:19700329T020000
RRULE:FREQ=YEARLY;INTERVAL=1;BYDAY=-1SU;BYMONTH=3
END:DAYLIGHT
BEGIN:STANDARD
TZOFFSETFROM:+0200
TZOFFSETTO:+0100
TZNAME:CET
DTSTART:19701025T030000
RRULE:FREQ=YEARLY;INTERVAL=1;BYDAY=-1SU;BYMONTH=10
END:STANDARD
END:VTIMEZONE
BEGIN:VEVENT
SUMMARY:Offener Themenrundgang: Vom Korn zum Brot
DTSTAMP:20260223T103625Z
UID:www_wackershofen_de_veranstaltungen_9943_processwire
DTSTART;TZID=Europe/Berlin:20260525T143000
DTEND;TZID=Europe/Berlin:20260525T153000
DESCRIPTION:Wie wird aus dem Korn ein Brot? Dieser Ablauf soll anhand der Gebäude Getreidelagerhaus aus Kupferzell, Scheune, Mühle aus Weipertshofen und Backhaus erläutert werden.Eine vorherige Anmeldung ist nicht notwendig.
URL:https://www.wackershofen.de/veranstaltungen/rundgang-korn-brot
END:VEVENT
END:VCALENDAR