BEGIN:VCALENDAR
VERSION:2.0
PRODID:-//Wackershofen//Veranstaltungen//DE
BEGIN:VTIMEZONE
TZID:Europe/Berlin
X-LIC-LOCATION:Europe/Berlin
BEGIN:DAYLIGHT
TZOFFSETFROM:+0100
TZOFFSETTO:+0200
TZNAME:CEST
DTSTART:19700329T020000
RRULE:FREQ=YEARLY;INTERVAL=1;BYDAY=-1SU;BYMONTH=3
END:DAYLIGHT
BEGIN:STANDARD
TZOFFSETFROM:+0200
TZOFFSETTO:+0100
TZNAME:CET
DTSTART:19701025T030000
RRULE:FREQ=YEARLY;INTERVAL=1;BYDAY=-1SU;BYMONTH=10
END:STANDARD
END:VTIMEZONE
BEGIN:VEVENT
SUMMARY:Offener Themenrundgang: Nutztiere
DTSTAMP:20260223T102658Z
UID:www_wackershofen_de_veranstaltungen_9930_processwire
DTSTART;TZID=Europe/Berlin:20260426T143000
DTEND;TZID=Europe/Berlin:20260426T153000
DESCRIPTION:Es muht, es mäht, es grunzt. Auf unserem Museumsgelände ist tierisch was los! In diesem Themenrundgang können Groß und Klein Spannendes über unsere Tiere und ihre Haltung erfahren.Eine Anmeldung ist nicht notwendig.
URL:https://www.wackershofen.de/veranstaltungen/rundgang-nutztiere
END:VEVENT
BEGIN:VEVENT
SUMMARY:Offener Themenrundgang: Nutztiere
DTSTAMP:20260223T102739Z
UID:www_wackershofen_de_veranstaltungen_9931_processwire
DTSTART;TZID=Europe/Berlin:20260830T143000
DTEND;TZID=Europe/Berlin:20260830T153000
DESCRIPTION:Es muht, es mäht, es grunzt. Auf unserem Museumsgelände ist tierisch was los! In diesem Themenrundgang können Groß und Klein Spannendes über unsere Tiere und ihre Haltung erfahren.Eine Anmeldung ist nicht notwendig.
URL:https://www.wackershofen.de/veranstaltungen/rundgang-nutztiere
END:VEVENT
BEGIN:VEVENT
SUMMARY:Offener Themenrundgang: Nutztiere
DTSTAMP:20260223T102817Z
UID:www_wackershofen_de_veranstaltungen_9932_processwire
DTSTART;TZID=Europe/Berlin:20261011T143000
DTEND;TZID=Europe/Berlin:20261011T153000
DESCRIPTION:Es muht, es mäht, es grunzt. Auf unserem Museumsgelände ist tierisch was los! In diesem Themenrundgang können Groß und Klein Spannendes über unsere Tiere und ihre Haltung erfahren.Eine Anmeldung ist nicht notwendig.
URL:https://www.wackershofen.de/veranstaltungen/rundgang-nutztiere
END:VEVENT
END:VCALENDAR