BEGIN:VCALENDAR
VERSION:2.0
PRODID:-//Wackershofen//Veranstaltungen//DE
BEGIN:VTIMEZONE
TZID:Europe/Berlin
X-LIC-LOCATION:Europe/Berlin
BEGIN:DAYLIGHT
TZOFFSETFROM:+0100
TZOFFSETTO:+0200
TZNAME:CEST
DTSTART:19700329T020000
RRULE:FREQ=YEARLY;INTERVAL=1;BYDAY=-1SU;BYMONTH=3
END:DAYLIGHT
BEGIN:STANDARD
TZOFFSETFROM:+0200
TZOFFSETTO:+0100
TZNAME:CET
DTSTART:19701025T030000
RRULE:FREQ=YEARLY;INTERVAL=1;BYDAY=-1SU;BYMONTH=10
END:STANDARD
END:VTIMEZONE
BEGIN:VEVENT
SUMMARY:Offener Themenrundgang: Unterm Hakenkreuz
DTSTAMP:20260223T103957Z
UID:www_wackershofen_de_veranstaltungen_9945_processwire
DTSTART;TZID=Europe/Berlin:20260719T143000
DTEND;TZID=Europe/Berlin:20260719T153000
DESCRIPTION:Die Museumsgebäude des Freilandmuseums erzählen nicht immer nur schöne Geschichten. Sie sind auch Zeugen der Ereignisse von 1933–45. Der Themenrundgang widmet sich Einzelschicksalen und historischen Ereignissen, berichtet von Flucht und Widerstand.Eine Anmeldung ist nicht notwendig.
URL:https://www.wackershofen.de/veranstaltungen/rundgang-unterm-hakenkreuz
END:VEVENT
BEGIN:VEVENT
SUMMARY:Offener Themenrundgang: Unterm Hakenkreuz
DTSTAMP:20260223T104039Z
UID:www_wackershofen_de_veranstaltungen_9946_processwire
DTSTART;TZID=Europe/Berlin:20261018T143000
DTEND;TZID=Europe/Berlin:20261018T153000
DESCRIPTION:Die Museumsgebäude des Freilandmuseums erzählen nicht immer nur schöne Geschichten. Sie sind auch Zeugen der Ereignisse von 1933–45. Der Themenrundgang widmet sich Einzelschicksalen und historischen Ereignissen, berichtet von Flucht und Widerstand.Eine Anmeldung ist nicht notwendig.
URL:https://www.wackershofen.de/veranstaltungen/rundgang-unterm-hakenkreuz
END:VEVENT
END:VCALENDAR