BEGIN:VCALENDAR
VERSION:2.0
PRODID:-//Wackershofen//Veranstaltungen//DE
BEGIN:VTIMEZONE
TZID:Europe/Berlin
X-LIC-LOCATION:Europe/Berlin
BEGIN:DAYLIGHT
TZOFFSETFROM:+0100
TZOFFSETTO:+0200
TZNAME:CEST
DTSTART:19700329T020000
RRULE:FREQ=YEARLY;INTERVAL=1;BYDAY=-1SU;BYMONTH=3
END:DAYLIGHT
BEGIN:STANDARD
TZOFFSETFROM:+0200
TZOFFSETTO:+0100
TZNAME:CET
DTSTART:19701025T030000
RRULE:FREQ=YEARLY;INTERVAL=1;BYDAY=-1SU;BYMONTH=10
END:STANDARD
END:VTIMEZONE
BEGIN:VEVENT
SUMMARY:Offener Themenrundgang: Zwangsarbeiterschicksale
DTSTAMP:20260223T104214Z
UID:www_wackershofen_de_veranstaltungen_9947_processwire
DTSTART;TZID=Europe/Berlin:20260816T143000
DTEND;TZID=Europe/Berlin:20260816T153000
DESCRIPTION:Die authentischen Zeugnisse eines dunklen Kapitels deutscher Geschichte werden beim Rundgang in ausgewählten Gebäuden lebendig. Gezeigt wird unter anderem die Ausstellung in der Zwangsarbeiterbaracke, die den Alltag von Zwangsarbeiterinnen und Zwangsarbeitern dokumentiert.Eine Anmeldung ist nicht notwendig.
URL:https://www.wackershofen.de/veranstaltungen/rundgang-zwangsarbeiterschicksale
END:VEVENT
END:VCALENDAR