BEGIN:VCALENDAR
VERSION:2.0
PRODID:-//Wackershofen//Veranstaltungen//DE
BEGIN:VTIMEZONE
TZID:Europe/Berlin
X-LIC-LOCATION:Europe/Berlin
BEGIN:DAYLIGHT
TZOFFSETFROM:+0100
TZOFFSETTO:+0200
TZNAME:CEST
DTSTART:19700329T020000
RRULE:FREQ=YEARLY;INTERVAL=1;BYDAY=-1SU;BYMONTH=3
END:DAYLIGHT
BEGIN:STANDARD
TZOFFSETFROM:+0200
TZOFFSETTO:+0100
TZNAME:CET
DTSTART:19701025T030000
RRULE:FREQ=YEARLY;INTERVAL=1;BYDAY=-1SU;BYMONTH=10
END:STANDARD
END:VTIMEZONE
BEGIN:VEVENT
SUMMARY:Textildruck (ab 8 Jahren)
DTSTAMP:20260218T090536Z
UID:www_wackershofen_de_veranstaltungen_9871_processwire
DTSTART;TZID=Europe/Berlin:20260818T140000
DTEND;TZID=Europe/Berlin:20260818T160000
DESCRIPTION:Mit blauer Textilfarbe kreieren die Kinder auf altem Leinen mit Schablonen und Holzstempeln ihre eigenen Muster. Gerne können auch eigene Textilien (zum Beispiel helle T-Shirts oder Stofftaschen) selbst mitgebracht werden.
URL:https://www.wackershofen.de/veranstaltungen/textildruck-ab-8-jahren
END:VEVENT
BEGIN:VEVENT
SUMMARY:Textildruck (ab 8 Jahren)
DTSTAMP:20260218T090608Z
UID:www_wackershofen_de_veranstaltungen_9872_processwire
DTSTART;TZID=Europe/Berlin:20260902T140000
DTEND;TZID=Europe/Berlin:20260902T160000
DESCRIPTION:Mit blauer Textilfarbe kreieren die Kinder auf altem Leinen mit Schablonen und Holzstempeln ihre eigenen Muster. Gerne können auch eigene Textilien (zum Beispiel helle T-Shirts oder Stofftaschen) selbst mitgebracht werden.
URL:https://www.wackershofen.de/veranstaltungen/textildruck-ab-8-jahren
END:VEVENT
BEGIN:VEVENT
SUMMARY:Textildruck (ab 8 Jahren)
DTSTAMP:20260218T090624Z
UID:www_wackershofen_de_veranstaltungen_9873_processwire
DTSTART;TZID=Europe/Berlin:20260910T140000
DTEND;TZID=Europe/Berlin:20260910T160000
DESCRIPTION:Mit blauer Textilfarbe kreieren die Kinder auf altem Leinen mit Schablonen und Holzstempeln ihre eigenen Muster. Gerne können auch eigene Textilien (zum Beispiel helle T-Shirts oder Stofftaschen) selbst mitgebracht werden.
URL:https://www.wackershofen.de/veranstaltungen/textildruck-ab-8-jahren
END:VEVENT
END:VCALENDAR