BEGIN:VCALENDAR
VERSION:2.0
PRODID:-//Wackershofen//Veranstaltungen//DE
BEGIN:VTIMEZONE
TZID:Europe/Berlin
X-LIC-LOCATION:Europe/Berlin
BEGIN:DAYLIGHT
TZOFFSETFROM:+0100
TZOFFSETTO:+0200
TZNAME:CEST
DTSTART:19700329T020000
RRULE:FREQ=YEARLY;INTERVAL=1;BYDAY=-1SU;BYMONTH=3
END:DAYLIGHT
BEGIN:STANDARD
TZOFFSETFROM:+0200
TZOFFSETTO:+0100
TZNAME:CET
DTSTART:19701025T030000
RRULE:FREQ=YEARLY;INTERVAL=1;BYDAY=-1SU;BYMONTH=10
END:STANDARD
END:VTIMEZONE
BEGIN:VEVENT
SUMMARY:Offener Themenrundgang: Dörfliches Leben vom Spätmittelalter bis zur Neuzeit
DTSTAMP:20260223T101944Z
UID:www_wackershofen_de_veranstaltungen_9927_processwire
DTSTART;TZID=Europe/Berlin:20260514T143000
DTEND;TZID=Europe/Berlin:20260514T153000
DESCRIPTION:Beim Übergang vom Spätmittelalter zur Frühen Neuzeit gab es viele politische, gesellschaftliche und kulturelle Veränderungen. Für die Bewohner dörflicher Regionen aber blieben die einfachen, oft ärmlichen Lebensumstände über Jahrzehnte, häufig sogar Jahrhunderte, gleich. Die Führung gibt Einblicke in ihr Alltagsleben: in Viehhaltung, Ackerbau, Essgewohnheiten und Heilmethoden bis hin zu räuberischen Umtrieben in einem einsam gelegenen Gasthaus. Zum Abschluss wird die Funktionsweise einer Mahl- und Sägemühle gezeigt.Eine Anmeldung ist nicht notwendig.
URL:https://www.wackershofen.de/veranstaltungen/themenrundgang-doerfliches-leben
END:VEVENT
BEGIN:VEVENT
SUMMARY:Offener Themenrundgang: Dörfliches Leben vom Spätmittelalter bis zur Neuzeit
DTSTAMP:20260223T102030Z
UID:www_wackershofen_de_veranstaltungen_9928_processwire
DTSTART;TZID=Europe/Berlin:20260611T143000
DTEND;TZID=Europe/Berlin:20260611T153000
DESCRIPTION:Beim Übergang vom Spätmittelalter zur Frühen Neuzeit gab es viele politische, gesellschaftliche und kulturelle Veränderungen. Für die Bewohner dörflicher Regionen aber blieben die einfachen, oft ärmlichen Lebensumstände über Jahrzehnte, häufig sogar Jahrhunderte, gleich. Die Führung gibt Einblicke in ihr Alltagsleben: in Viehhaltung, Ackerbau, Essgewohnheiten und Heilmethoden bis hin zu räuberischen Umtrieben in einem einsam gelegenen Gasthaus. Zum Abschluss wird die Funktionsweise einer Mahl- und Sägemühle gezeigt.Eine Anmeldung ist nicht notwendig.
URL:https://www.wackershofen.de/veranstaltungen/themenrundgang-doerfliches-leben
END:VEVENT
BEGIN:VEVENT
SUMMARY:Offener Themenrundgang: Dörfliches Leben vom Spätmittelalter bis zur Neuzeit
DTSTAMP:20260223T102050Z
UID:www_wackershofen_de_veranstaltungen_9929_processwire
DTSTART;TZID=Europe/Berlin:20260920T143000
DTEND;TZID=Europe/Berlin:20260920T153000
DESCRIPTION:Beim Übergang vom Spätmittelalter zur Frühen Neuzeit gab es viele politische, gesellschaftliche und kulturelle Veränderungen. Für die Bewohner dörflicher Regionen aber blieben die einfachen, oft ärmlichen Lebensumstände über Jahrzehnte, häufig sogar Jahrhunderte, gleich. Die Führung gibt Einblicke in ihr Alltagsleben: in Viehhaltung, Ackerbau, Essgewohnheiten und Heilmethoden bis hin zu räuberischen Umtrieben in einem einsam gelegenen Gasthaus. Zum Abschluss wird die Funktionsweise einer Mahl- und Sägemühle gezeigt.Eine Anmeldung ist nicht notwendig.
URL:https://www.wackershofen.de/veranstaltungen/themenrundgang-doerfliches-leben
END:VEVENT
END:VCALENDAR