BEGIN:VCALENDAR
VERSION:2.0
PRODID:-//Wackershofen//Veranstaltungen//DE
BEGIN:VTIMEZONE
TZID:Europe/Berlin
X-LIC-LOCATION:Europe/Berlin
BEGIN:DAYLIGHT
TZOFFSETFROM:+0100
TZOFFSETTO:+0200
TZNAME:CEST
DTSTART:19700329T020000
RRULE:FREQ=YEARLY;INTERVAL=1;BYDAY=-1SU;BYMONTH=3
END:DAYLIGHT
BEGIN:STANDARD
TZOFFSETFROM:+0200
TZOFFSETTO:+0100
TZNAME:CET
DTSTART:19701025T030000
RRULE:FREQ=YEARLY;INTERVAL=1;BYDAY=-1SU;BYMONTH=10
END:STANDARD
END:VTIMEZONE
BEGIN:VEVENT
SUMMARY:Weidenflechten
DTSTAMP:20260317T124657Z
UID:www_wackershofen_de_veranstaltungen_10350_processwire
DTSTART;TZID=Europe/Berlin:20260621T110000
DTEND;TZID=Europe/Berlin:20260621T170000
DESCRIPTION:Unter Anleitung von Hobbyflechterin Anna Hafner können spontan Interessierte dekorative Gegenstände aus Weidenruten flechten. Die Flechtaktionen dauert ca. 45 bis 60 Minuten und ist auch für Anfänger geeignet.
URL:https://www.wackershofen.de/veranstaltungen/weidenflechten
END:VEVENT
BEGIN:VEVENT
SUMMARY:Weidenflechten
DTSTAMP:20260317T124724Z
UID:www_wackershofen_de_veranstaltungen_10351_processwire
DTSTART;TZID=Europe/Berlin:20260719T110000
DTEND;TZID=Europe/Berlin:20260719T170000
DESCRIPTION:Unter Anleitung von Hobbyflechterin Anna Hafner können spontan Interessierte dekorative Gegenstände aus Weidenruten flechten. Die Flechtaktionen dauert ca. 45 bis 60 Minuten und ist auch für Anfänger geeignet.
URL:https://www.wackershofen.de/veranstaltungen/weidenflechten
END:VEVENT
BEGIN:VEVENT
SUMMARY:Weidenflechten
DTSTAMP:20260317T124740Z
UID:www_wackershofen_de_veranstaltungen_10352_processwire
DTSTART;TZID=Europe/Berlin:20261004T110000
DTEND;TZID=Europe/Berlin:20261004T160000
DESCRIPTION:Unter Anleitung von Hobbyflechterin Anna Hafner können spontan Interessierte dekorative Gegenstände aus Weidenruten flechten. Die Flechtaktionen dauert ca. 45 bis 60 Minuten und ist auch für Anfänger geeignet.
URL:https://www.wackershofen.de/veranstaltungen/weidenflechten
END:VEVENT
BEGIN:VEVENT
SUMMARY:Weidenflechten
DTSTAMP:20260317T124808Z
UID:www_wackershofen_de_veranstaltungen_10353_processwire
DTSTART;TZID=Europe/Berlin:20261018T110000
DTEND;TZID=Europe/Berlin:20261018T160000
DESCRIPTION:Unter Anleitung von Hobbyflechterin Anna Hafner können spontan Interessierte dekorative Gegenstände aus Weidenruten flechten. Die Flechtaktionen dauert ca. 45 bis 60 Minuten und ist auch für Anfänger geeignet.
URL:https://www.wackershofen.de/veranstaltungen/weidenflechten
END:VEVENT
END:VCALENDAR